BEGIN:VCALENDAR
VERSION:2.0
PRODID:-//Loop 101 Mobility Arizona - ECPv6.10.1.1//NONSGML v1.0//EN
CALSCALE:GREGORIAN
METHOD:PUBLISH
X-ORIGINAL-URL:https://www.l101mobilityaz.com
X-WR-CALDESC:Events for Loop 101 Mobility Arizona
REFRESH-INTERVAL;VALUE=DURATION:PT1H
X-Robots-Tag:noindex
X-PUBLISHED-TTL:PT1H
BEGIN:VTIMEZONE
TZID:UTC
BEGIN:STANDARD
TZOFFSETFROM:+0000
TZOFFSETTO:+0000
TZNAME:UTC
DTSTART:20200101T000000
END:STANDARD
END:VTIMEZONE
BEGIN:VEVENT
DTSTART;TZID=UTC:20210217T090000
DTEND;TZID=UTC:20210217T230000
DTSTAMP:20260425T120817
CREATED:20210129T231223Z
LAST-MODIFIED:20210129T231435Z
UID:236-1613552400-1613602800@www.l101mobilityaz.com
SUMMARY:AZTECH OC
DESCRIPTION:
URL:https://www.l101mobilityaz.com/event/aztech-oc-2/
CATEGORIES:Other Events
END:VEVENT
BEGIN:VEVENT
DTSTART;TZID=UTC:20210209T100000
DTEND;TZID=UTC:20210209T120000
DTSTAMP:20260425T120817
CREATED:20210129T231131Z
LAST-MODIFIED:20210129T231455Z
UID:235-1612864800-1612872000@www.l101mobilityaz.com
SUMMARY:AZTECH TMC OPS
DESCRIPTION:
URL:https://www.l101mobilityaz.com/event/aztech-tmc-ops/
CATEGORIES:Other Events
END:VEVENT
BEGIN:VEVENT
DTSTART;TZID=UTC:20210203T100000
DTEND;TZID=UTC:20210203T113000
DTSTAMP:20260425T120817
CREATED:20210129T230957Z
LAST-MODIFIED:20210129T231507Z
UID:234-1612346400-1612351800@www.l101mobilityaz.com
SUMMARY:MAG ITS COMM
DESCRIPTION:
URL:https://www.l101mobilityaz.com/event/mag-its-comm/
CATEGORIES:Other Events
END:VEVENT
BEGIN:VEVENT
DTSTART;TZID=UTC:20210128T140000
DTEND;TZID=UTC:20210128T160000
DTSTAMP:20260425T120817
CREATED:20210125T154350Z
LAST-MODIFIED:20210129T231512Z
UID:229-1611842400-1611849600@www.l101mobilityaz.com
SUMMARY:AZTECH SSC
DESCRIPTION:
URL:https://www.l101mobilityaz.com/event/aztech-ssc/
CATEGORIES:Other Events
END:VEVENT
BEGIN:VEVENT
DTSTART;TZID=UTC:20210120T090000
DTEND;TZID=UTC:20210120T110000
DTSTAMP:20260425T120817
CREATED:20210125T154159Z
LAST-MODIFIED:20210129T231516Z
UID:226-1611133200-1611140400@www.l101mobilityaz.com
SUMMARY:AZTECH OC
DESCRIPTION:
URL:https://www.l101mobilityaz.com/event/aztech-oc/
CATEGORIES:Other Events
END:VEVENT
BEGIN:VEVENT
DTSTART;TZID=UTC:20201217T140000
DTEND;TZID=UTC:20201217T160000
DTSTAMP:20260425T120817
CREATED:20200113T203529Z
LAST-MODIFIED:20200212T214941Z
UID:99-1608213600-1608220800@www.l101mobilityaz.com
SUMMARY:AZTech Strategic Steering Committee
DESCRIPTION:
URL:https://www.l101mobilityaz.com/event/aztech-strategic-steering-committee/
CATEGORIES:Other Events
END:VEVENT
BEGIN:VEVENT
DTSTART;TZID=UTC:20201216T090000
DTEND;TZID=UTC:20201216T110000
DTSTAMP:20260425T120817
CREATED:20200113T203529Z
LAST-MODIFIED:20200212T214941Z
UID:98-1608109200-1608116400@www.l101mobilityaz.com
SUMMARY:AZTech Operations Committee
DESCRIPTION:
URL:https://www.l101mobilityaz.com/event/aztech-operations-committee/
CATEGORIES:Other Events
END:VEVENT
BEGIN:VEVENT
DTSTART;TZID=UTC:20201208T100000
DTEND;TZID=UTC:20201208T120000
DTSTAMP:20260425T120817
CREATED:20200212T214941Z
LAST-MODIFIED:20200212T214941Z
UID:144-1607421600-1607428800@www.l101mobilityaz.com
SUMMARY:AZTech TMC Operators Working Group
DESCRIPTION:
URL:https://www.l101mobilityaz.com/event/aztech-tmc-operators-working-group-6/
CATEGORIES:Other Events
END:VEVENT
BEGIN:VEVENT
DTSTART;TZID=UTC:20201202T100000
DTEND;TZID=UTC:20201202T120000
DTSTAMP:20260425T120817
CREATED:20200212T214941Z
LAST-MODIFIED:20200212T214941Z
UID:143-1606903200-1606910400@www.l101mobilityaz.com
SUMMARY:MAG ITS Committee
DESCRIPTION:
URL:https://www.l101mobilityaz.com/event/mag-its-committee-11/
CATEGORIES:Other Events
END:VEVENT
BEGIN:VEVENT
DTSTART;TZID=UTC:20201119T140000
DTEND;TZID=UTC:20201119T160000
DTSTAMP:20260425T120817
CREATED:20200113T203529Z
LAST-MODIFIED:20200212T214941Z
UID:95-1605794400-1605801600@www.l101mobilityaz.com
SUMMARY:AZTech Strategic Steering Committee
DESCRIPTION:
URL:https://www.l101mobilityaz.com/event/aztech-strategic-steering-committee-2/
CATEGORIES:Other Events
END:VEVENT
BEGIN:VEVENT
DTSTART;TZID=UTC:20201119T090000
DTEND;TZID=UTC:20201119T140000
DTSTAMP:20260425T120817
CREATED:20200113T203529Z
LAST-MODIFIED:20200212T214941Z
UID:94-1605776400-1605794400@www.l101mobilityaz.com
SUMMARY:AZITE Meeting
DESCRIPTION:Loop 101 Mobility Decision Support System (DSS)
URL:https://www.l101mobilityaz.com/event/azite-meeting/
CATEGORIES:Other Events
END:VEVENT
BEGIN:VEVENT
DTSTART;TZID=UTC:20201118T090000
DTEND;TZID=UTC:20201118T110000
DTSTAMP:20260425T120817
CREATED:20200113T203529Z
LAST-MODIFIED:20200212T214941Z
UID:93-1605690000-1605697200@www.l101mobilityaz.com
SUMMARY:AZTech Operations Committee
DESCRIPTION:
URL:https://www.l101mobilityaz.com/event/aztech-operations-committee-2/
CATEGORIES:Other Events
END:VEVENT
BEGIN:VEVENT
DTSTART;TZID=UTC:20201117T113000
DTEND;TZID=UTC:20201117T130000
DTSTAMP:20260425T120817
CREATED:20200113T203529Z
LAST-MODIFIED:20200212T214941Z
UID:92-1605612600-1605618000@www.l101mobilityaz.com
SUMMARY:AZTech Media & Communications Task Force
DESCRIPTION:
URL:https://www.l101mobilityaz.com/event/aztech-media-communications-task-force/
CATEGORIES:Other Events
END:VEVENT
BEGIN:VEVENT
DTSTART;TZID=UTC:20201110T100000
DTEND;TZID=UTC:20201110T120000
DTSTAMP:20260425T120817
CREATED:20200212T214941Z
LAST-MODIFIED:20200212T214941Z
UID:142-1605002400-1605009600@www.l101mobilityaz.com
SUMMARY:AZTech TIM Coalition
DESCRIPTION:
URL:https://www.l101mobilityaz.com/event/aztech-tim-coalition-6/
CATEGORIES:Other Events
END:VEVENT
BEGIN:VEVENT
DTSTART;TZID=UTC:20201104T100000
DTEND;TZID=UTC:20201104T120000
DTSTAMP:20260425T120817
CREATED:20200212T214941Z
LAST-MODIFIED:20200212T214941Z
UID:141-1604484000-1604491200@www.l101mobilityaz.com
SUMMARY:MAG ITS Committee
DESCRIPTION:
URL:https://www.l101mobilityaz.com/event/mag-its-committee-10/
CATEGORIES:Other Events
END:VEVENT
BEGIN:VEVENT
DTSTART;TZID=UTC:20201022T140000
DTEND;TZID=UTC:20201022T160000
DTSTAMP:20260425T120817
CREATED:20200113T203529Z
LAST-MODIFIED:20200212T214940Z
UID:89-1603375200-1603382400@www.l101mobilityaz.com
SUMMARY:AZTech Executive Committee/Strategic Steering Committee
DESCRIPTION:
URL:https://www.l101mobilityaz.com/event/aztech-executive-committee-strategic-steering-committee/
CATEGORIES:Other Events
END:VEVENT
BEGIN:VEVENT
DTSTART;TZID=UTC:20201022T080000
DTEND;TZID=UTC:20201022T140000
DTSTAMP:20260425T120817
CREATED:20200113T203529Z
LAST-MODIFIED:20200212T214940Z
UID:88-1603353600-1603375200@www.l101mobilityaz.com
SUMMARY:AZITE Meeting
DESCRIPTION:FHWA Guide On Simulations Update
URL:https://www.l101mobilityaz.com/event/azite-meeting-2/
CATEGORIES:Other Events
END:VEVENT
BEGIN:VEVENT
DTSTART;TZID=UTC:20201021T100000
DTEND;TZID=UTC:20201021T120000
DTSTAMP:20260425T120817
CREATED:20200113T203529Z
LAST-MODIFIED:20200929T210009Z
UID:87-1603274400-1603281600@www.l101mobilityaz.com
SUMMARY:AZTech Operations Committee
DESCRIPTION:
URL:https://www.l101mobilityaz.com/event/aztech-operations-committee-3/
CATEGORIES:Other Events
END:VEVENT
BEGIN:VEVENT
DTSTART;VALUE=DATE:20201014
DTEND;VALUE=DATE:20201015
DTSTAMP:20260425T120817
CREATED:20200929T205121Z
LAST-MODIFIED:20200929T224438Z
UID:216-1602633600-1602719999@www.l101mobilityaz.com
SUMMARY:ITS Arizona Conference
DESCRIPTION:
URL:https://www.l101mobilityaz.com/event/its-arizona-conference/
CATEGORIES:Other Events
END:VEVENT
BEGIN:VEVENT
DTSTART;TZID=UTC:20201013T100000
DTEND;TZID=UTC:20201013T120000
DTSTAMP:20260425T120817
CREATED:20200212T214940Z
LAST-MODIFIED:20200212T214940Z
UID:140-1602583200-1602590400@www.l101mobilityaz.com
SUMMARY:AZTech TMC Operators Working Group
DESCRIPTION:
URL:https://www.l101mobilityaz.com/event/aztech-tmc-operators-working-group-5/
CATEGORIES:Other Events
END:VEVENT
BEGIN:VEVENT
DTSTART;TZID=UTC:20201007T100000
DTEND;TZID=UTC:20201007T120000
DTSTAMP:20260425T120817
CREATED:20200212T214940Z
LAST-MODIFIED:20200212T214940Z
UID:139-1602064800-1602072000@www.l101mobilityaz.com
SUMMARY:MAG ITS Committee
DESCRIPTION:
URL:https://www.l101mobilityaz.com/event/mag-its-committee-9/
CATEGORIES:Other Events
END:VEVENT
BEGIN:VEVENT
DTSTART;TZID=UTC:20200924T170000
DTEND;TZID=UTC:20200924T200000
DTSTAMP:20260425T120817
CREATED:20200113T203529Z
LAST-MODIFIED:20200212T214940Z
UID:84-1600966800-1600977600@www.l101mobilityaz.com
SUMMARY:AZITE Annual Business Meeting
DESCRIPTION:Budget\, Officer Induction\, Awards and District & International Updates
URL:https://www.l101mobilityaz.com/event/azite-annual-business-meeting/
CATEGORIES:Other Events
END:VEVENT
BEGIN:VEVENT
DTSTART;TZID=UTC:20200924T140000
DTEND;TZID=UTC:20200924T160000
DTSTAMP:20260425T120817
CREATED:20200113T203529Z
LAST-MODIFIED:20200212T214940Z
UID:83-1600956000-1600963200@www.l101mobilityaz.com
SUMMARY:AZTech Strategic Steering Committee
DESCRIPTION:
URL:https://www.l101mobilityaz.com/event/aztech-strategic-steering-committee-3/
CATEGORIES:Other Events
END:VEVENT
BEGIN:VEVENT
DTSTART;TZID=UTC:20200916T113000
DTEND;TZID=UTC:20200916T130000
DTSTAMP:20260425T120817
CREATED:20200113T203529Z
LAST-MODIFIED:20200212T214940Z
UID:82-1600255800-1600261200@www.l101mobilityaz.com
SUMMARY:AZTech Media & Communications Task Force
DESCRIPTION:
URL:https://www.l101mobilityaz.com/event/aztech-media-communications-task-force-2/
CATEGORIES:Other Events
END:VEVENT
BEGIN:VEVENT
DTSTART;TZID=UTC:20200916T090000
DTEND;TZID=UTC:20200916T110000
DTSTAMP:20260425T120817
CREATED:20200113T203529Z
LAST-MODIFIED:20200212T214940Z
UID:81-1600246800-1600254000@www.l101mobilityaz.com
SUMMARY:AZTech Operations Committee
DESCRIPTION:
URL:https://www.l101mobilityaz.com/event/aztech-operations-committee-4/
CATEGORIES:Other Events
END:VEVENT
BEGIN:VEVENT
DTSTART;TZID=UTC:20200915T100000
DTEND;TZID=UTC:20200915T120000
DTSTAMP:20260425T120817
CREATED:20200212T214939Z
LAST-MODIFIED:20200212T214939Z
UID:137-1600164000-1600171200@www.l101mobilityaz.com
SUMMARY:AZTech TIM Coalition
DESCRIPTION:
URL:https://www.l101mobilityaz.com/event/aztech-tim-coalition-5/
CATEGORIES:Other Events
END:VEVENT
BEGIN:VEVENT
DTSTART;TZID=UTC:20200902T100000
DTEND;TZID=UTC:20200902T120000
DTSTAMP:20260425T120817
CREATED:20200212T214940Z
LAST-MODIFIED:20200212T214940Z
UID:138-1599040800-1599048000@www.l101mobilityaz.com
SUMMARY:MAG ITS Committee
DESCRIPTION:
URL:https://www.l101mobilityaz.com/event/mag-its-committee-8/
CATEGORIES:Other Events
END:VEVENT
BEGIN:VEVENT
DTSTART;TZID=UTC:20200827T140000
DTEND;TZID=UTC:20200827T160000
DTSTAMP:20260425T120817
CREATED:20200113T204928Z
LAST-MODIFIED:20200212T214939Z
UID:78-1598536800-1598544000@www.l101mobilityaz.com
SUMMARY:AZTech Strategic Steering Committee
DESCRIPTION:
URL:https://www.l101mobilityaz.com/event/aztech-strategic-steering-committee-10/
CATEGORIES:Other Events
END:VEVENT
BEGIN:VEVENT
DTSTART;TZID=UTC:20200826T090000
DTEND;TZID=UTC:20200826T140000
DTSTAMP:20260425T120817
CREATED:20200113T204928Z
LAST-MODIFIED:20200212T214939Z
UID:77-1598432400-1598450400@www.l101mobilityaz.com
SUMMARY:AZITE Meeting
DESCRIPTION:Alternative Interchange/Intersection Designs – CFIs
URL:https://www.l101mobilityaz.com/event/azite-meeting-6/
CATEGORIES:Other Events
END:VEVENT
BEGIN:VEVENT
DTSTART;TZID=UTC:20200819T090000
DTEND;TZID=UTC:20200819T110000
DTSTAMP:20260425T120817
CREATED:20200113T204928Z
LAST-MODIFIED:20200212T214939Z
UID:76-1597827600-1597834800@www.l101mobilityaz.com
SUMMARY:AZTech Operations Committee
DESCRIPTION:
URL:https://www.l101mobilityaz.com/event/aztech-operations-committee-12/
CATEGORIES:Other Events
END:VEVENT
END:VCALENDAR