BEGIN:VCALENDAR
VERSION:2.0
PRODID:-//Loop 101 Mobility Arizona - ECPv6.10.1.1//NONSGML v1.0//EN
CALSCALE:GREGORIAN
METHOD:PUBLISH
X-WR-CALNAME:Loop 101 Mobility Arizona
X-ORIGINAL-URL:https://www.l101mobilityaz.com
X-WR-CALDESC:Events for Loop 101 Mobility Arizona
REFRESH-INTERVAL;VALUE=DURATION:PT1H
X-Robots-Tag:noindex
X-PUBLISHED-TTL:PT1H
BEGIN:VTIMEZONE
TZID:UTC
BEGIN:STANDARD
TZOFFSETFROM:+0000
TZOFFSETTO:+0000
TZNAME:UTC
DTSTART:20200101T000000
END:STANDARD
END:VTIMEZONE
BEGIN:VEVENT
DTSTART;TZID=UTC:20201007T100000
DTEND;TZID=UTC:20201007T120000
DTSTAMP:20260421T104239
CREATED:20200212T214940Z
LAST-MODIFIED:20200212T214940Z
UID:139-1602064800-1602072000@www.l101mobilityaz.com
SUMMARY:MAG ITS Committee
DESCRIPTION:
URL:https://www.l101mobilityaz.com/event/mag-its-committee-9/
CATEGORIES:Other Events
END:VEVENT
END:VCALENDAR