BEGIN:VCALENDAR
VERSION:2.0
PRODID:-//Loop 101 Mobility Arizona - ECPv6.10.1.1//NONSGML v1.0//EN
CALSCALE:GREGORIAN
METHOD:PUBLISH
X-WR-CALNAME:Loop 101 Mobility Arizona
X-ORIGINAL-URL:https://www.l101mobilityaz.com
X-WR-CALDESC:Events for Loop 101 Mobility Arizona
REFRESH-INTERVAL;VALUE=DURATION:PT1H
X-Robots-Tag:noindex
X-PUBLISHED-TTL:PT1H
BEGIN:VTIMEZONE
TZID:UTC
BEGIN:STANDARD
TZOFFSETFROM:+0000
TZOFFSETTO:+0000
TZNAME:UTC
DTSTART:20210101T000000
END:STANDARD
END:VTIMEZONE
BEGIN:VEVENT
DTSTART;TZID=UTC:20210217T150000
DTEND;TZID=UTC:20210217T160000
DTSTAMP:20260422T104107
CREATED:20210129T231255Z
LAST-MODIFIED:20210129T231557Z
UID:237-1613574000-1613577600@www.l101mobilityaz.com
SUMMARY:L101 TECH TEAM LEADS
DESCRIPTION:
URL:https://www.l101mobilityaz.com/event/l101-tech-team-leads/
CATEGORIES:Loop 101 Events
END:VEVENT
END:VCALENDAR